BEGIN:VCALENDAR
VERSION:2.0
PRODID:-//ChurchDev//Events//EN
CALSCALE:GREGORIAN
METHOD:PUBLISH
BEGIN:VEVENT
UID:5751-20231008@www.skylandumc.com
SUMMARY:Confirmation Class
DTSTART:20231008T210000Z
DTEND:20231008T223000Z
DESCRIPTION:https://www.skylandumc.com/events/confirmation-class-2/
LOCATION:1984 Hendersonville Road Asheville\, NC 28803
URL:https://www.skylandumc.com/events/confirmation-class-2/
DTSTAMP:20260423T101136Z
END:VEVENT
END:VCALENDAR
