BEGIN:VCALENDAR
VERSION:2.0
PRODID:-//ChurchDev//Events//EN
CALSCALE:GREGORIAN
METHOD:PUBLISH
BEGIN:VEVENT
UID:6235-20240107@www.skylandumc.com
SUMMARY:Communion on 1st Sunday – NO Children’s Church (both services)
DTSTART;VALUE=DATE:20240107
DTEND;VALUE=DATE:20240108
DESCRIPTION:Communion on the 1st Sunday of each month. Children remain in the service with their families &#8211\; NO Children&#8217\;s Church.\\n\\nhttps://www.skylandumc.com/events/communion-1st-sunday-no-childrens-church/
LOCATION:1984 Hendersonville Road Asheville\, NC 28803
URL:https://www.skylandumc.com/events/communion-1st-sunday-no-childrens-church/
DTSTAMP:20260423T101038Z
END:VEVENT
END:VCALENDAR
