BEGIN:VCALENDAR
VERSION:2.0
PRODID:-//ChurchDev//Events//EN
CALSCALE:GREGORIAN
METHOD:PUBLISH
BEGIN:VEVENT
UID:6951-20241109@www.skylandumc.com
SUMMARY:Hurricane Helene Benefit Concert. Featuring LYRIC
DTSTART:20241109T233000Z
DTEND:20241110T013000Z
DESCRIPTION:November 9\, 6:30-8:30\\nWe are blessed with an opportunity to continue our work with the people who were so deeply affected by the hurricane. On November 9th at 6:30 pm there will be a benefit concert at our church\, featuring a local band\, LYRIC! The lead singer\, Leeda Lyric Jones\, has deep roots in our community\, as do her band members. This group is excited to work with us and further the hurricane relief efforts at Skyland.\\nDONATIONS ACCEPTED!\\n\\nhttps://www.skylandumc.com/events/hurricane-helene-benefit-concert-featuring-lyric/
LOCATION:1984 Hendersonville Road Asheville\, NC 28803
URL:https://www.skylandumc.com/events/hurricane-helene-benefit-concert-featuring-lyric/
DTSTAMP:20260423T083141Z
END:VEVENT
END:VCALENDAR
